BEGIN:VCALENDAR
VERSION:2.0
PRODID:icalendar-ruby
CALSCALE:GREGORIAN
METHOD:PUBLISH
BEGIN:VEVENT
DTSTAMP:20260423T005152Z
UID:29-591750@johnsonmemorialumc.com
DTSTART:20261007T211500Z
DTEND:20261007T220000Z
CLASS:PUBLIC
CREATED:20260422T201645
DESCRIPTION:
LAST-MODIFIED:20260422T201645
LOCATION:
SUMMARY:Reconciling Ministries Study
URL;VALUE=URI:https://www.johnsonmemorialumc.com/events/reconciling-ministr
 ies-study/2026-10-07
ATTACH;FILENAME=Recon-Ministries-logo.jpg;FMTTYPE=image/jpeg:https://dq5pwp
 g1q8ru0.cloudfront.net/2025/09/10/14/06/45/b699a2ed-376f-4a98-a070-7352a32
 622c7/Recon-Ministries-logo.jpg
END:VEVENT
END:VCALENDAR
