BEGIN:VCALENDAR
VERSION:2.0
PRODID:icalendar-ruby
CALSCALE:GREGORIAN
METHOD:PUBLISH
BEGIN:VEVENT
DTSTAMP:20260422T231103Z
UID:29-591186@johnsonmemorialumc.com
DTSTART:20260930T211500Z
DTEND:20260930T220000Z
CLASS:PUBLIC
CREATED:20260422T172514
DESCRIPTION:
LAST-MODIFIED:20260422T172514
LOCATION:
SUMMARY:Reconciling Ministries Study
URL;VALUE=URI:https://www.johnsonmemorialumc.com/events/reconciling-ministr
 ies-study/2026-09-30
ATTACH;FILENAME=Recon-Ministries-logo.jpg;FMTTYPE=image/jpeg:https://dq5pwp
 g1q8ru0.cloudfront.net/2025/09/10/14/06/45/b699a2ed-376f-4a98-a070-7352a32
 622c7/Recon-Ministries-logo.jpg
END:VEVENT
END:VCALENDAR
