BEGIN:VCALENDAR
VERSION:2.0
PRODID:icalendar-ruby
CALSCALE:GREGORIAN
METHOD:PUBLISH
BEGIN:VEVENT
DTSTAMP:20260424T233710Z
UID:10-597690@johnsonmemorialumc.com
DTSTART:20261001T220000Z
DTEND:20261001T230000Z
CLASS:PUBLIC
CREATED:20260424T170719
DESCRIPTION:
LAST-MODIFIED:20260424T170719
LOCATION:Fellowship Hall
SUMMARY:Common Grounds
URL;VALUE=URI:https://www.johnsonmemorialumc.com/events/common-grounds/2026
 -10-01
ATTACH;FILENAME=Common-Grounds.jpg;FMTTYPE=image/jpeg:https://dq5pwpg1q8ru0
 .cloudfront.net/2025/08/19/19/25/51/ffc41802-67fa-407d-845d-9d115d579307/C
 ommon-Grounds.jpg
END:VEVENT
END:VCALENDAR
