BEGIN:VCALENDAR
VERSION:2.0
PRODID:icalendar-ruby
CALSCALE:GREGORIAN
METHOD:PUBLISH
BEGIN:VEVENT
DTSTAMP:20260423T151120Z
UID:33-593098@johnsonmemorialumc.com
DTSTART:20261104T213000Z
DTEND:20261104T221500Z
CLASS:PUBLIC
CREATED:20260423T084125
DESCRIPTION:
LAST-MODIFIED:20260423T084125
LOCATION:
SUMMARY:Bell Choir Rehearsal A
URL;VALUE=URI:https://www.johnsonmemorialumc.com/events/bell-choir-rehearsa
 l-a/2026-11-04
ATTACH;FILENAME=Bells.jpg;FMTTYPE=image/jpeg:https://dq5pwpg1q8ru0.cloudfro
 nt.net/2025/09/10/14/12/59/277a7610-c1b2-455d-9ddc-e809241c6862/Bells.jpg
END:VEVENT
END:VCALENDAR
