BEGIN:VCALENDAR
VERSION:2.0
PRODID:icalendar-ruby
CALSCALE:GREGORIAN
METHOD:PUBLISH
BEGIN:VEVENT
DTSTAMP:20260423T061204Z
UID:33-592526@johnsonmemorialumc.com
DTSTART:20260930T203000Z
DTEND:20260930T211500Z
CLASS:PUBLIC
CREATED:20260422T231108
DESCRIPTION:
LAST-MODIFIED:20260422T231108
LOCATION:
SUMMARY:Bell Choir Rehearsal A
URL;VALUE=URI:https://www.johnsonmemorialumc.com/events/bell-choir-rehearsa
 l-a/2026-09-30
ATTACH;FILENAME=Bells.jpg;FMTTYPE=image/jpeg:https://dq5pwpg1q8ru0.cloudfro
 nt.net/2025/09/10/14/12/59/277a7610-c1b2-455d-9ddc-e809241c6862/Bells.jpg
END:VEVENT
END:VCALENDAR
